BEGIN:VCALENDAR
VERSION:2.0
PRODID:-//Skaja - ECPv6.15.4//NONSGML v1.0//EN
CALSCALE:GREGORIAN
METHOD:PUBLISH
X-WR-CALNAME:Skaja
X-ORIGINAL-URL:https://www.skaja.nl
X-WR-CALDESC:Evenementen voor Skaja
REFRESH-INTERVAL;VALUE=DURATION:PT1H
X-Robots-Tag:noindex
X-PUBLISHED-TTL:PT1H
BEGIN:VTIMEZONE
TZID:UTC
BEGIN:STANDARD
TZOFFSETFROM:+0000
TZOFFSETTO:+0000
TZNAME:UTC
DTSTART:20200101T000000
END:STANDARD
END:VTIMEZONE
BEGIN:VEVENT
DTSTART;TZID=UTC:20200111T100000
DTEND;TZID=UTC:20200111T113000
DTSTAMP:20260420T082352
CREATED:20191211T191259Z
LAST-MODIFIED:20191212T073324Z
UID:3639-1578736800-1578742200@www.skaja.nl
SUMMARY:Verdiepingsworkshop Weerstand met Essentiële oliën
DESCRIPTION:De oliën waarmee wordt gewerkt zijn aromatische stoffen die het zelf genezend vermogen van het lichaam ondersteunen. Tijdens de workshop komen specifieke oliën aan bod die ondersteunen in de koude maanden door de lichamelijke en emotionele weerstand te verbeteren. \n”Ervaar zelf wat deze oliën voor jou kunnen doen in het dagelijks leven!” \nTijdens de workshop krijg je informatie over de oliën en maak je je eigen mix van essentiële oliën die een krachtige werking hebben om je weerstand te verhogen. De oliën zitten in een rollerbottle die makkelijk is aan te brengen op de huid. Laat je verrassen door de heerlijke wintergeuren die dagelijks gebruikt kunnen worden voor een ontspannen gevoel voor lichaam en geest. \nWaar:            Landleeuw 18\, 2131 HW Hoofddorp\nWanneer:      Zaterdag 11 januari van 10:00 tot 11:30 \nBijdrage:        € 15\,00 p.p. (inclusief koffie of thee en een rollerbottle met essentiële oliën) \n\n    Reserveer direct\n    \nNb. Op deze workshop is geen Social Deal van toepassing. De Social Deal geldt alleen voor de Workshop Essentiële oliën maken.
URL:https://www.skaja.nl/event/weerstand-met-essentiele-olien/
ATTACH;FMTTYPE=image/jpeg:https://www.skaja.nl/wp-content/uploads/2019/12/foto-workshop-Weerstand.jpg
END:VEVENT
END:VCALENDAR